BEGIN:VCALENDAR
VERSION:2.0
CALSCALE:GREGORIAN
METHOD:REQUEST
PRODID:Erie Sports Commission
BEGIN:VEVENT
UID: 128397469e4c6fee9797@info@eriesports.com
SUMMARY:Erie Otters vs. Guelph Storm
DTSTAMP:20260419T081350
DTSTART:20241228T190000
DTEND:20241228T190000
LOCATION:809 French Street Erie, PA 16507
DESCRIPTION:
STATUS:CONFIRMED
SEQUENCE:3
END:VEVENT
END:VCALENDAR